BEGIN:VCALENDAR
VERSION:2.0
PRODID:-//eventon.com NONSGML v1.0//EN
CALSCALE:GREGORIAN
METHOD:PUBLISH
BEGIN:VEVENT
UID:69eb9c033d2bd
DTSTAMP:20260424T163619Z
DTSTART:20250913
DTEND:20250914
LOCATION:
SUMMARY:Open District Zuid Sparring Kampioenschap
DESCRIPTION:Uitschrijving_Open_District_Zuid_Kyorugi_2025\nhttps://www.taek
 wondobond.nl/events/sparringtoernooi-district-zuid-onder-voorbehoud/
URL:https://www.taekwondobond.nl/events/sparringtoernooi-district-zuid-onder-voorbehoud/
END:VEVENT
END:VCALENDAR