BEGIN:VCALENDAR
VERSION:2.0
PRODID:-//eventon.com NONSGML v1.0//EN
CALSCALE:GREGORIAN
METHOD:PUBLISH
BEGIN:VEVENT
UID:69e5e3399be81
DTSTAMP:20260420T082633Z
DTSTART:20250914
DTEND:20250915
LOCATION:
SUMMARY:Open District Zuid Poomsae Kampioenschap
DESCRIPTION:Uitschrijving_Open_District_Zuid_Poomsae_v2025-def-v2 &nbsp;\nh
 ttps://www.taekwondobond.nl/events/poomsae-toernooi-district-zuid-onder-voo
 rbehoud/
URL:https://www.taekwondobond.nl/events/poomsae-toernooi-district-zuid-onder-voorbehoud/
END:VEVENT
END:VCALENDAR