BEGIN:VCALENDAR
VERSION:2.0
PRODID:-//eventon.com NONSGML v1.0//EN
CALSCALE:GREGORIAN
METHOD:PUBLISH
BEGIN:VEVENT
UID:69eb9b90e7196
DTSTAMP:20260424T163424Z
DTSTART:20241222T120000Z
DTEND:20241222T150000Z
LOCATION:
SUMMARY:Open Sparringsdag
DESCRIPTION:TBN _ Open Sparringsdag 22 december 2024\nhttps://www.taekwondo
 bond.nl/events/open-sparringsdag-2/
URL:https://www.taekwondobond.nl/events/open-sparringsdag-2/
END:VEVENT
END:VCALENDAR