BEGIN:VCALENDAR
VERSION:2.0
PRODID:-//eventon.com NONSGML v1.0//EN
CALSCALE:GREGORIAN
METHOD:PUBLISH
BEGIN:VEVENT
UID:69eb9b6ca1ea8
DTSTAMP:20260424T163348Z
DTSTART:20250517
DTEND:20250518
LOCATION:
SUMMARY:Nationaal herexamen
DESCRIPTION:Sporthal De Boog Uitschrijving Nationaal Herexamen 17 mei 2025\
 nhttps://www.taekwondobond.nl/events/nationaal-herexamen-3/
URL:https://www.taekwondobond.nl/events/nationaal-herexamen-3/
END:VEVENT
END:VCALENDAR