BEGIN:VCALENDAR
VERSION:2.0
PRODID:-//eventon.com NONSGML v1.0//EN
CALSCALE:GREGORIAN
METHOD:PUBLISH
BEGIN:VEVENT
UID:69eb9b6b0b1ea
DTSTAMP:20260424T163347Z
DTSTART:20250517T123000Z
DTEND:20250517T160000Z
LOCATION:
SUMMARY:Danvoorbereidingstraining
DESCRIPTION:Uitschrijving Danvoorbereidingstraining 17 mei 2025\nhttps://ww
 w.taekwondobond.nl/events/danvoorbereidingstraining-9/
URL:https://www.taekwondobond.nl/events/danvoorbereidingstraining-9/
END:VEVENT
END:VCALENDAR