BEGIN:VCALENDAR
VERSION:2.0
PRODID:-//eventon.com NONSGML v1.0//EN
CALSCALE:GREGORIAN
METHOD:PUBLISH
BEGIN:VEVENT
UID:69eb9b6c87bcf
DTSTAMP:20260424T163348Z
DTSTART:20250517T130000Z
DTEND:20250517T160000Z
LOCATION:
SUMMARY:Trainersbijscholing
DESCRIPTION:Trainersbijscholing TBN 17 mei 2025\nhttps://www.taekwondobond.
 nl/events/trainersbijscholing-8/
URL:https://www.taekwondobond.nl/events/trainersbijscholing-8/
END:VEVENT
END:VCALENDAR