BEGIN:VCALENDAR
VERSION:2.0
PRODID:-//eventon.com NONSGML v1.0//EN
CALSCALE:GREGORIAN
METHOD:PUBLISH
BEGIN:VEVENT
UID:69eb9b6c6acbb
DTSTAMP:20260424T163348Z
DTSTART:20250614
DTEND:20250615
LOCATION:
SUMMARY:Nationaal danexamen
DESCRIPTION:&nbsp; Sporthal De Triangel Uitschrijving Nationaal Danexamen 1
 4 juni 2025 Aanmeldingsformulier danexamen juni 2025 Partner registratiefor
 mulier &nbsp;\nhttps://www.taekwondobond.nl/events/nationaal-danexamen-14/
URL:https://www.taekwondobond.nl/events/nationaal-danexamen-14/
END:VEVENT
END:VCALENDAR