BEGIN:VCALENDAR
VERSION:2.0
PRODID:-//eventon.com NONSGML v1.0//EN
CALSCALE:GREGORIAN
METHOD:PUBLISH
BEGIN:VEVENT
UID:69eb9b5091ecd
DTSTAMP:20260424T163320Z
DTSTART:20250503
DTEND:20250504
LOCATION:
SUMMARY:Wedstrijdreglementencursus
DESCRIPTION:WRC mei 2025\nhttps://www.taekwondobond.nl/events/wedstrijdregl
 ementencursus-14/
URL:https://www.taekwondobond.nl/events/wedstrijdreglementencursus-14/
END:VEVENT
END:VCALENDAR