BEGIN:VCALENDAR
VERSION:2.0
PRODID:-//eventon.com NONSGML v1.0//EN
CALSCALE:GREGORIAN
METHOD:PUBLISH
BEGIN:VEVENT
UID:69eb9bb10c8ba
DTSTAMP:20260424T163457Z
DTSTART:20250510
DTEND:20250511
LOCATION:
SUMMARY:Stijljurycursus
DESCRIPTION:Stijljurycursus mei 2025\nhttps://www.taekwondobond.nl/events/s
 tijljurycursus-10/
URL:https://www.taekwondobond.nl/events/stijljurycursus-10/
END:VEVENT
END:VCALENDAR