BEGIN:VCALENDAR
VERSION:2.0
PRODID:-//eventon.com NONSGML v1.0//EN
CALSCALE:GREGORIAN
METHOD:PUBLISH
BEGIN:VEVENT
UID:69eb9bf3cf472
DTSTAMP:20260424T163603Z
DTSTART:20250531T100000Z
DTEND:20250531T140000Z
LOCATION:
SUMMARY:Para-Poomsae cursus
DESCRIPTION:Para-poomsae informatieve bijeenkomst mei 2025\nhttps://www.tae
 kwondobond.nl/events/para-poomsae-cursus-onder-voorbehoud/
URL:https://www.taekwondobond.nl/events/para-poomsae-cursus-onder-voorbehoud/
END:VEVENT
END:VCALENDAR