BEGIN:VCALENDAR
VERSION:2.0
PRODID:-//eventon.com NONSGML v1.0//EN
CALSCALE:GREGORIAN
METHOD:PUBLISH
BEGIN:VEVENT
UID:69e74d80bb5d2
DTSTAMP:20260421T101216Z
DTSTART:20250618T193000Z
DTEND:20250618T223000Z
LOCATION:
SUMMARY:Voorjaarsvergadering
DESCRIPTION:0025_026 Oproep voorjaarsvergadering 2025 0025_031 Definitieve 
 agenda voorjaarsvergadering 2025\nhttps://www.taekwondobond.nl/events/voorj
 aarsvergadering-9/
URL:https://www.taekwondobond.nl/events/voorjaarsvergadering-9/
END:VEVENT
END:VCALENDAR