BEGIN:VCALENDAR
VERSION:2.0
PRODID:-//eventon.com NONSGML v1.0//EN
CALSCALE:GREGORIAN
METHOD:PUBLISH
BEGIN:VEVENT
UID:69e5e32814c49
DTSTAMP:20260420T082616Z
DTSTART:20250508T194500Z
DTEND:20250508T223000Z
LOCATION:
SUMMARY:Districtsvergadering district Zuid-Nederland
DESCRIPTION:Locatie: Grand Cafe De Bank\,  Raadhuisplein 30b\,  5683 EA  B
 est &nbsp; Oproep met voorlopige agenda: 0001_25dz Oproep districtsvergader
 ing mei 2025 &nbsp;\nhttps://www.taekwondobond.nl/events/districtsvergaderi
 ng-district-zuid-nederland/
URL:https://www.taekwondobond.nl/events/districtsvergadering-district-zuid-nederland/
END:VEVENT
END:VCALENDAR