BEGIN:VCALENDAR
VERSION:2.0
PRODID:-//eventon.com NONSGML v1.0//EN
CALSCALE:GREGORIAN
METHOD:PUBLISH
BEGIN:VEVENT
UID:69eb9b92ea1bf
DTSTAMP:20260424T163426Z
DTSTART:20260412
DTEND:20260413
LOCATION:
SUMMARY:Open Districtskampioenschap Stijl - District Noord-Oost
DESCRIPTION:Open District NoordOost Poomsae kampioenschap 2026 &nbsp;\nhttp
 s://www.taekwondobond.nl/events/open-districtskampioenschap-stijl-district-
 noord-oost-4/
URL:https://www.taekwondobond.nl/events/open-districtskampioenschap-stijl-district-noord-oost-4/
END:VEVENT
END:VCALENDAR