BEGIN:VCALENDAR
VERSION:2.0
PRODID:-//eventon.com NONSGML v1.0//EN
CALSCALE:GREGORIAN
METHOD:PUBLISH
BEGIN:VEVENT
UID:69e7373100d65
DTSTAMP:20260421T083705Z
DTSTART:20260314T000000Z
DTEND:20260315T235900Z
LOCATION:
SUMMARY:53rd Dutch Open Sparring 2026
DESCRIPTION:Dutch Open 2026 Official Outline &#8211; Revised (30.01.2026) A
 ccommodation Booking Form &nbsp;\nhttps://www.taekwondobond.nl/events/53rd-
 dutch-open-sparring-2026-subject-to-change/
URL:https://www.taekwondobond.nl/events/53rd-dutch-open-sparring-2026-subject-to-change/
END:VEVENT
END:VCALENDAR