BEGIN:VCALENDAR
VERSION:2.0
PRODID:-//eventon.com NONSGML v1.0//EN
CALSCALE:GREGORIAN
METHOD:PUBLISH
BEGIN:VEVENT
UID:69eb9b6a746b2
DTSTAMP:20260424T163346Z
DTSTART:20251101
DTEND:20251102
LOCATION:
SUMMARY:TTE Open
DESCRIPTION:TTE Open 2025 &#8211; uitschrijving &nbsp; &nbsp;\nhttps://www.
 taekwondobond.nl/events/tte-open-onder-voorbehoud/
URL:https://www.taekwondobond.nl/events/tte-open-onder-voorbehoud/
END:VEVENT
END:VCALENDAR