BEGIN:VCALENDAR
VERSION:2.0
PRODID:-//eventon.com NONSGML v1.0//EN
CALSCALE:GREGORIAN
METHOD:PUBLISH
BEGIN:VEVENT
UID:69eb9b6c38039
DTSTAMP:20260424T163348Z
DTSTART:20250526T184500Z
DTEND:20250526T213000Z
LOCATION:
SUMMARY:Districtsvergadering district Noord-Oost Nederland
DESCRIPTION:0001_25dn Oproep districtsvergadering mei 2025 0002_25dn Defini
 tieve agenda districtsvergadering mei 2025 &nbsp; &nbsp;\nhttps://www.taekw
 ondobond.nl/events/districtsvergadering-district-noord-oost-nederland/
URL:https://www.taekwondobond.nl/events/districtsvergadering-district-noord-oost-nederland/
END:VEVENT
END:VCALENDAR