BEGIN:VCALENDAR
VERSION:2.0
PRODID:-//eventon.com NONSGML v1.0//EN
CALSCALE:GREGORIAN
METHOD:PUBLISH
BEGIN:VEVENT
UID:69e5f6f73812a
DTSTAMP:20260420T095047Z
DTSTART:20250528T184500Z
DTEND:20250528T213000Z
LOCATION:
SUMMARY:Districtsvergadering district West-Nederland
DESCRIPTION:0001_25dw Oproep districtsvergadering mei 2025 0002_25dw Defini
 tieve agenda districtsvergadering mei 2025 &nbsp; &nbsp;\nhttps://www.taekw
 ondobond.nl/events/districtvergadering-district-west-nederland/
URL:https://www.taekwondobond.nl/events/districtvergadering-district-west-nederland/
END:VEVENT
END:VCALENDAR