BEGIN:VCALENDAR
VERSION:2.0
PRODID:-//eventon.com NONSGML v1.0//EN
CALSCALE:GREGORIAN
METHOD:PUBLISH
BEGIN:VEVENT
UID:69eb9b6bec73e
DTSTAMP:20260424T163347Z
DTSTART:20250721T000000Z
DTEND:20250727T235900Z
LOCATION:
SUMMARY:Poomsae Summer Camp
DESCRIPTION:\nhttps://www.taekwondobond.nl/events/poomsae-freestyle-summerc
 amp/
URL:https://www.taekwondobond.nl/events/poomsae-freestyle-summercamp/
END:VEVENT
END:VCALENDAR