BEGIN:VCALENDAR
VERSION:2.0
PRODID:-//eventon.com NONSGML v1.0//EN
CALSCALE:GREGORIAN
METHOD:PUBLISH
BEGIN:VEVENT
UID:69eb9b4c7a837
DTSTAMP:20260424T163316Z
DTSTART:20250621T130000Z
DTEND:20250621T170000Z
LOCATION:
SUMMARY:Funseminar district West
DESCRIPTION:Flyer Taekwondo Funseminar District West 21-06-2025 &nbsp;\nhtt
 ps://www.taekwondobond.nl/events/funseminar-district-west/
URL:https://www.taekwondobond.nl/events/funseminar-district-west/
END:VEVENT
END:VCALENDAR