BEGIN:VCALENDAR
VERSION:2.0
PRODID:-//eventon.com NONSGML v1.0//EN
CALSCALE:GREGORIAN
METHOD:PUBLISH
BEGIN:VEVENT
UID:69e5f8c3ab66a
DTSTAMP:20260420T095827Z
DTSTART:20260621
DTEND:20260622
LOCATION:Topsportcentrum Almere Pierre de Coubertinplein 4
SUMMARY:Taekwondo Almere Open - Kyorugi
DESCRIPTION:Uitschrijving Taekwondo Almere Open 2026 Kyorugi\nhttps://www.t
 aekwondobond.nl/events/taekwondo-almere-open-kyorugi-onder-voorbehoud/
URL:https://www.taekwondobond.nl/events/taekwondo-almere-open-kyorugi-onder-voorbehoud/
END:VEVENT
END:VCALENDAR