BEGIN:VCALENDAR
VERSION:2.0
PRODID:-//eventon.com NONSGML v1.0//EN
CALSCALE:GREGORIAN
METHOD:PUBLISH
BEGIN:VEVENT
UID:69eb9c028c83b
DTSTAMP:20260424T163618Z
DTSTART:20250907T100000Z
DTEND:20250907T133000Z
LOCATION:
SUMMARY:District West stijltraining
DESCRIPTION:District West stijltraining\nhttps://www.taekwondobond.nl/event
 s/district-west-stijltraining/
URL:https://www.taekwondobond.nl/events/district-west-stijltraining/
END:VEVENT
END:VCALENDAR