BEGIN:VCALENDAR
VERSION:2.0
PRODID:-//eventon.com NONSGML v1.0//EN
CALSCALE:GREGORIAN
METHOD:PUBLISH
BEGIN:VEVENT
UID:69eb9bf4b6d8d
DTSTAMP:20260424T163604Z
DTSTART:20251005T100000Z
DTEND:20251005T133000Z
LOCATION:
SUMMARY:District West stijltraining
DESCRIPTION:District West stijltraining\nhttps://www.taekwondobond.nl/event
 s/district-west-stijltraining-2/
URL:https://www.taekwondobond.nl/events/district-west-stijltraining-2/
END:VEVENT
END:VCALENDAR