BEGIN:VCALENDAR
VERSION:2.0
PRODID:-//eventon.com NONSGML v1.0//EN
CALSCALE:GREGORIAN
METHOD:PUBLISH
BEGIN:VEVENT
UID:69eb9c033addf
DTSTAMP:20260424T163619Z
DTSTART:20251214T100000Z
DTEND:20251214T133000Z
LOCATION:
SUMMARY:District West stijltraining
DESCRIPTION:District West stijltraining\nhttps://www.taekwondobond.nl/event
 s/district-west-stijltraining-3-2/
URL:https://www.taekwondobond.nl/events/district-west-stijltraining-3-2/
END:VEVENT
END:VCALENDAR