BEGIN:VCALENDAR
VERSION:2.0
PRODID:-//eventon.com NONSGML v1.0//EN
CALSCALE:GREGORIAN
METHOD:PUBLISH
BEGIN:VEVENT
UID:69e5e321bb810
DTSTAMP:20260420T082609Z
DTSTART:20260308T100000Z
DTEND:20260308T133000Z
LOCATION:
SUMMARY:District West stijltraining
DESCRIPTION:District West stijltraining\nhttps://www.taekwondobond.nl/event
 s/district-west-stijltraining-5/
URL:https://www.taekwondobond.nl/events/district-west-stijltraining-5/
END:VEVENT
END:VCALENDAR