BEGIN:VCALENDAR
VERSION:2.0
PRODID:-//eventon.com NONSGML v1.0//EN
CALSCALE:GREGORIAN
METHOD:PUBLISH
BEGIN:VEVENT
UID:69eb9bf4ce520
DTSTAMP:20260424T163604Z
DTSTART:20260517T100000Z
DTEND:20260517T133000Z
LOCATION:
SUMMARY:District West stijltraining
DESCRIPTION:District West stijltraining\nhttps://www.taekwondobond.nl/event
 s/district-west-stijltraining-6/
URL:https://www.taekwondobond.nl/events/district-west-stijltraining-6/
END:VEVENT
END:VCALENDAR