BEGIN:VCALENDAR
VERSION:2.0
PRODID:-//eventon.com NONSGML v1.0//EN
CALSCALE:GREGORIAN
METHOD:PUBLISH
BEGIN:VEVENT
UID:69eb9c4d5a8af
DTSTAMP:20260424T163733Z
DTSTART:20260705T100000Z
DTEND:20260705T133000Z
LOCATION:
SUMMARY:District West stijltraining
DESCRIPTION:District West stijltraining\nhttps://www.taekwondobond.nl/event
 s/district-west-stijltraining-7/
URL:https://www.taekwondobond.nl/events/district-west-stijltraining-7/
END:VEVENT
END:VCALENDAR