BEGIN:VCALENDAR
VERSION:2.0
PRODID:-//eventon.com NONSGML v1.0//EN
CALSCALE:GREGORIAN
METHOD:PUBLISH
BEGIN:VEVENT
UID:69eb9bdaba81f
DTSTAMP:20260424T163538Z
DTSTART:20251220
DTEND:20251221
LOCATION:
SUMMARY:NK Sparren (A+B klasse) en Nationaal toernooi Sparren (C- en D-klasse)
DESCRIPTION:UITSCHRIJVING NK en Nationaal toernooi SPARRING 2025\nhttps://w
 ww.taekwondobond.nl/events/nk-sparren-2/
URL:https://www.taekwondobond.nl/events/nk-sparren-2/
END:VEVENT
END:VCALENDAR