BEGIN:VCALENDAR
VERSION:2.0
PRODID:-//eventon.com NONSGML v1.0//EN
CALSCALE:GREGORIAN
METHOD:PUBLISH
BEGIN:VEVENT
UID:69eb9bf5c1cd9
DTSTAMP:20260424T163605Z
DTSTART:20251221
DTEND:20251222
LOCATION:
SUMMARY:NK Poomsae & Freestyle (A-klassen) & Para-Poomsae en Nationaal Poomsae & Freestyle toernooi (B-\,  C- en D-klasse)
DESCRIPTION:UITSCHRIJVING NK Poomsae &amp; Freestyle &amp; Para Poomsae 202
 5\nhttps://www.taekwondobond.nl/events/nk-poomsae-4/
URL:https://www.taekwondobond.nl/events/nk-poomsae-4/
END:VEVENT
END:VCALENDAR