BEGIN:VCALENDAR
VERSION:2.0
PRODID:-//eventon.com NONSGML v1.0//EN
CALSCALE:GREGORIAN
METHOD:PUBLISH
BEGIN:VEVENT
UID:69eb9b97248a4
DTSTAMP:20260424T163431Z
DTSTART:20251115
DTEND:20251116
LOCATION:
SUMMARY:Nationale herexamens
DESCRIPTION:Uitschrijving Nationaal Herexamen 15 november 2025\nhttps://www
 .taekwondobond.nl/events/nationale-herexamens/
URL:https://www.taekwondobond.nl/events/nationale-herexamens/
END:VEVENT
END:VCALENDAR