BEGIN:VCALENDAR
VERSION:2.0
PRODID:-//eventon.com NONSGML v1.0//EN
CALSCALE:GREGORIAN
METHOD:PUBLISH
BEGIN:VEVENT
UID:69eb9bef56d1d
DTSTAMP:20260424T163559Z
DTSTART:20251115
DTEND:20251116
LOCATION:
SUMMARY:Trainersbijscholing
DESCRIPTION:Trainersbijscholing TBN 15 november 2025\nhttps://www.taekwondo
 bond.nl/events/trainersbijscholing-9/
URL:https://www.taekwondobond.nl/events/trainersbijscholing-9/
END:VEVENT
END:VCALENDAR