BEGIN:VCALENDAR
VERSION:2.0
PRODID:-//eventon.com NONSGML v1.0//EN
CALSCALE:GREGORIAN
METHOD:PUBLISH
BEGIN:VEVENT
UID:69eb9bf46ef7e
DTSTAMP:20260424T163604Z
DTSTART:20251115
DTEND:20251116
LOCATION:
SUMMARY:Danexamenvoorbereidingstraining
DESCRIPTION:Uitschrijving Danvoorbereidingstraining 15 november 2025\nhttps
 ://www.taekwondobond.nl/events/danexamenvoorbereidingstraining/
URL:https://www.taekwondobond.nl/events/danexamenvoorbereidingstraining/
END:VEVENT
END:VCALENDAR