BEGIN:VCALENDAR
VERSION:2.0
PRODID:-//eventon.com NONSGML v1.0//EN
CALSCALE:GREGORIAN
METHOD:PUBLISH
BEGIN:VEVENT
UID:69eb9b9724658
DTSTAMP:20260424T163431Z
DTSTART:20251206
DTEND:20251207
LOCATION:
SUMMARY:Nationale danexamens
DESCRIPTION:&nbsp; Uitschrijving Nationaal Danexamen 6 december 2025 Aanmel
 dingsformulier danexamen 6 december 2025 Partner registratieformulier 6 dec
 ember 2025\nhttps://www.taekwondobond.nl/events/nationale-danexamens/
URL:https://www.taekwondobond.nl/events/nationale-danexamens/
END:VEVENT
END:VCALENDAR