BEGIN:VCALENDAR
VERSION:2.0
PRODID:-//eventon.com NONSGML v1.0//EN
CALSCALE:GREGORIAN
METHOD:PUBLISH
BEGIN:VEVENT
UID:69eb9b92d13e4
DTSTAMP:20260424T163426Z
DTSTART:20250927T100000Z
DTEND:20250927T143000Z
LOCATION:Indoorsportcomplex Olympiakwartier Almere Pierre de coubertinlaan 6
SUMMARY:Regiotraining Breedtesport - Stijl & Sparring - Regio Paars (Midden Nederland)
DESCRIPTION:Training 1 van de 4 TBN Regiotrainingen Breedtesport Stijl &amp
 ; Sparring! Benieuwd in welke regio jouw club zit? Kijk hier. &nbsp; Voor w
 ie: Alle TBN-leden die willen werken aan hun Poomsae of Kyorugi vaardighed
 en o.l.v. een ervaren trainer! &nbsp; Planning ochtend: 10:00 &#8211; 12:00
  &#8211; Kyorugi training C-/D-klasse o.l.v. Ben van[..]\nhttps://www.taekw
 ondobond.nl/events/regiotraining-breedtesport-stijl-sparring-regio-paars-mi
 dden-nederland/
URL:https://www.taekwondobond.nl/events/regiotraining-breedtesport-stijl-sparring-regio-paars-midden-nederland/
END:VEVENT
END:VCALENDAR