BEGIN:VCALENDAR
VERSION:2.0
PRODID:-//eventon.com NONSGML v1.0//EN
CALSCALE:GREGORIAN
METHOD:PUBLISH
BEGIN:VEVENT
UID:69eb9b9724d45
DTSTAMP:20260424T163431Z
DTSTART:20260530T100000Z
DTEND:20260530T143000Z
LOCATION:Sportzaal Hart van Noord (Utrecht) Trumanlaan 60
SUMMARY:Regiotraining Breedtesport - Stijl & Sparring - Regio Paars (Midden Nederland)
DESCRIPTION:Training 4 van de 4 TBN Regiotrainingen Breedtesport Stijl &amp
 ; Sparring! Benieuwd in welke regio jouw club zit? Kijk hier. &nbsp; Voor w
 ie: Alle TBN-leden die willen werken aan hun Poomsae of Kyorugi vaardighed
 en o.l.v. een ervaren trainer! &nbsp; Planning ochtend: 10:00 &#8211; 12:00
  &#8211; Kyorugi training C-/D-klasse o.l.v.   n.t.b. 10:00[..]\nhttps://
 www.taekwondobond.nl/events/regiotraining-breedtesport-stijl-sparring-regio
 -paars-midden-nederland-onder-voorbehoud/
URL:https://www.taekwondobond.nl/events/regiotraining-breedtesport-stijl-sparring-regio-paars-midden-nederland-onder-voorbehoud/
END:VEVENT
END:VCALENDAR