BEGIN:VCALENDAR
VERSION:2.0
PRODID:-//eventon.com NONSGML v1.0//EN
CALSCALE:GREGORIAN
METHOD:PUBLISH
BEGIN:VEVENT
UID:69eb9bb071144
DTSTAMP:20260424T163456Z
DTSTART:20251005T100000Z
DTEND:20251005T143000Z
LOCATION:Gymzaal de Gros (PURMEREND) Zwanebloem 12
SUMMARY:Regiotraining Breedtesport - Stijl & Sparring - Regio Zwart (Noord-Holland)
DESCRIPTION:Training 1 van de 4 TBN Regiotrainingen Breedtesport Stijl &amp
 ; Sparring! Benieuwd in welke regio jouw club zit? Kijk hier. &nbsp; Voor w
 ie: Alle TBN-leden die willen werken aan hun Poomsae of Kyorugi vaardighed
 en o.l.v. een ervaren trainer! &nbsp; Planning: 10:00 &#8211; 12:00 &#8211;
  Poomsae training alle niveaus o.l.v. Bob Poublon[..]\nhttps://www.taekwond
 obond.nl/events/regiotraining-breedtesport-stijl-sparring-regio-zwart-noord
 -holland/
URL:https://www.taekwondobond.nl/events/regiotraining-breedtesport-stijl-sparring-regio-zwart-noord-holland/
END:VEVENT
END:VCALENDAR