BEGIN:VCALENDAR
VERSION:2.0
PRODID:-//eventon.com NONSGML v1.0//EN
CALSCALE:GREGORIAN
METHOD:PUBLISH
BEGIN:VEVENT
UID:69eb9bd8e67c9
DTSTAMP:20260424T163536Z
DTSTART:20251130T100000Z
DTEND:20251130T143000Z
LOCATION:Gymzaal de Gros (PURMEREND) Zwanebloem 12
SUMMARY:Regiotraining Breedtesport - Stijl & Sparring - Regio Zwart (Noord-Holland)
DESCRIPTION:Training 2 van de 4 TBN Regiotrainingen Breedtesport Stijl &amp
 ; Sparring! Benieuwd in welke regio jouw club zit? Kijk hier. &nbsp; Voor w
 ie: Alle TBN-leden die willen werken aan hun Poomsae of Kyorugi vaardighed
 en o.l.v. een ervaren trainer! &nbsp; Planning: volgt &nbsp; Kosten: €10\
 , - per training &nbsp; Inschrijven via:  Inschrijven Regio[..]\nhttps://w
 ww.taekwondobond.nl/events/regiotraining-breedtesport-stijl-sparring-regio-
 zwart-noord-holland-onder-voorbehoud/
URL:https://www.taekwondobond.nl/events/regiotraining-breedtesport-stijl-sparring-regio-zwart-noord-holland-onder-voorbehoud/
END:VEVENT
END:VCALENDAR