BEGIN:VCALENDAR
VERSION:2.0
PRODID:-//eventon.com NONSGML v1.0//EN
CALSCALE:GREGORIAN
METHOD:PUBLISH
BEGIN:VEVENT
UID:69e74fe5ea735
DTSTAMP:20260421T102229Z
DTSTART:20260510T100000Z
DTEND:20260510T143000Z
LOCATION:Gymzaal de Gros (PURMEREND) Zwanebloem 12
SUMMARY:Regiotraining Breedtesport - Stijl & Sparring - Regio Zwart (Noord-Holland)
DESCRIPTION:Training 4 van de 4 TBN Regiotrainingen Breedtesport Stijl &amp
 ; Sparring! Benieuwd in welke regio jouw club zit? Kijk hier. &nbsp; Voor w
 ie: Alle TBN-leden die willen werken aan hun Poomsae of Kyorugi vaardighed
 en o.l.v. een ervaren trainer! &nbsp; Planning: volgt &nbsp; Kosten: €10\
 , - per training &nbsp; Inschrijven via:  Inschrijven Regio Zwart[..]\nht
 tps://www.taekwondobond.nl/events/regiotraining-breedtesport-stijl-sparring
 -regio-zwart-noord-holland-onder-voorbehoud-copy/
URL:https://www.taekwondobond.nl/events/regiotraining-breedtesport-stijl-sparring-regio-zwart-noord-holland-onder-voorbehoud-copy/
END:VEVENT
END:VCALENDAR