BEGIN:VCALENDAR
VERSION:2.0
PRODID:-//eventon.com NONSGML v1.0//EN
CALSCALE:GREGORIAN
METHOD:PUBLISH
BEGIN:VEVENT
UID:69eb9b921757f
DTSTAMP:20260424T163426Z
DTSTART:20260620
DTEND:20260621
LOCATION:
SUMMARY:Open Districtskampioenschap Stijl - District West
DESCRIPTION:Open Districtskampioenschap Stijl - District West\nhttps://www.
 taekwondobond.nl/events/open-districtskampioenschap-stijl-district-west-2/
URL:https://www.taekwondobond.nl/events/open-districtskampioenschap-stijl-district-west-2/
END:VEVENT
END:VCALENDAR