BEGIN:VCALENDAR
VERSION:2.0
PRODID:-//eventon.com NONSGML v1.0//EN
CALSCALE:GREGORIAN
METHOD:PUBLISH
BEGIN:VEVENT
UID:69eb9beed2bbe
DTSTAMP:20260424T163558Z
DTSTART:20251026T100000Z
DTEND:20251026T143000Z
LOCATION:Sporthal Beijum Groningen Amkemaheerd 293
SUMMARY:Regiotraining Breedtesport - Stijl & Sparring - Regio Blauw (Noord-Nederland)
DESCRIPTION:TrainingÂ 1 van de 4 TBN Regiotrainingen Breedtesport Stijl &am
 p; Sparring! Benieuwd in welke regio jouw club zit? KijkÂ hier. &nbsp; Voor
  wie:Â Alle TBN-leden die willen werken aan hun Poomsae of Kyorugi vaardigh
 eden o.l.v. een ervaren trainer! &nbsp; Planning ochtend: 10:00 â€“ 12:00 â
 €“ Kyorugi training C-/D-klasse o.l.v. Habib Kazemi / Jari[..]\nhttps://www
 .taekwondobond.nl/events/regiotraining-breedtesport-stijl-sparring-regio-bl
 auw-noord-nederland/
URL:https://www.taekwondobond.nl/events/regiotraining-breedtesport-stijl-sparring-regio-blauw-noord-nederland/
END:VEVENT
END:VCALENDAR