BEGIN:VCALENDAR
VERSION:2.0
PRODID:-//eventon.com NONSGML v1.0//EN
CALSCALE:GREGORIAN
METHOD:PUBLISH
BEGIN:VEVENT
UID:69eb9c3fcdd42
DTSTAMP:20260424T163719Z
DTSTART:20260419T100000Z
DTEND:20260419T143000Z
LOCATION:Tiggelhal Ten Boer  Sportlaan 3
SUMMARY:Regiotraining Breedtesport - Stijl & Sparring - Regio Blauw (Noord-Nederland)
DESCRIPTION:Training 3 van de 4 TBN Regiotrainingen Breedtesport Stijl &amp
 ; Sparring! Benieuwd in welke regio jouw club zit? Kijk hier. &nbsp; Voor w
 ie: Alle TBN-leden die willen werken aan hun Poomsae of Kyorugi vaardighed
 en o.l.v. een ervaren trainer! &nbsp; Planning: volgt &nbsp; Kosten: €10
 \, - per training &nbsp; Inschrijven via:  Inschrijven Regio Blauw (Noord
 -Nederland)[..]\nhttps://www.taekwondobond.nl/events/regiotraining-breedtes
 port-stijl-sparring-regio-blauw-noord-nederland-3/
URL:https://www.taekwondobond.nl/events/regiotraining-breedtesport-stijl-sparring-regio-blauw-noord-nederland-3/
END:VEVENT
END:VCALENDAR