BEGIN:VCALENDAR
VERSION:2.0
PRODID:-//eventon.com NONSGML v1.0//EN
CALSCALE:GREGORIAN
METHOD:PUBLISH
BEGIN:VEVENT
UID:69eb9b972461e
DTSTAMP:20260424T163431Z
DTSTART:20260531T100000Z
DTEND:20260531T143000Z
LOCATION:Sporthal Valkenlaan Hoogeveen Wolfsbosstraat 9
SUMMARY:Regiotraining Breedtesport - Stijl & Sparring - Regio Blauw (Noord-Nederland)
DESCRIPTION:Training 4 van de 4 TBN Regiotrainingen Breedtesport Stijl &amp
 ; Sparring! Benieuwd in welke regio jouw club zit? Kijk hier. &nbsp; Voor w
 ie: Alle TBN-leden die willen werken aan hun Poomsae of Kyorugi vaardighed
 en o.l.v. een ervaren trainer! &nbsp; Planning: volgt &nbsp; Kosten: €10
 \, - per training &nbsp; Inschrijven via:  Inschrijven Regio Blauw (Noord
 -Nederland)[..]\nhttps://www.taekwondobond.nl/events/regiotraining-breedtes
 port-stijl-sparring-regio-blauw-noord-nederland-copy/
URL:https://www.taekwondobond.nl/events/regiotraining-breedtesport-stijl-sparring-regio-blauw-noord-nederland-copy/
END:VEVENT
END:VCALENDAR