BEGIN:VCALENDAR
VERSION:2.0
PRODID:-//eventon.com NONSGML v1.0//EN
CALSCALE:GREGORIAN
METHOD:PUBLISH
BEGIN:VEVENT
UID:69eb9b91eb3c3
DTSTAMP:20260424T163425Z
DTSTART:20251019T100000Z
DTEND:20251019T143000Z
LOCATION:Thorbeckesingel 2b (schiedam)
SUMMARY:Regiotraining Breedtesport - Stijl & Sparring - Regio Rood (Zuid-Holland)
DESCRIPTION:Training 1 van de 4 TBN Regiotrainingen Breedtesport Stijl &amp
 ; Sparring! Benieuwd in welke regio jouw club zit? Kijk hier. &nbsp; Voor w
 ie: Alle TBN-leden die willen werken aan hun Poomsae of Kyorugi vaardighed
 en o.l.v. een ervaren trainer! &nbsp; Planning ochtend: 10:00 – 12:00 –
  Kyorugi training C-/D-klasse o.l.v. Aylin Akdeniz[..]\nhttps://www.taekwon
 dobond.nl/events/regiotraining-breedtesport-stijl-sparring-regio-blauw-zuid
 -holland/
URL:https://www.taekwondobond.nl/events/regiotraining-breedtesport-stijl-sparring-regio-blauw-zuid-holland/
END:VEVENT
END:VCALENDAR