BEGIN:VCALENDAR
VERSION:2.0
PRODID:-//eventon.com NONSGML v1.0//EN
CALSCALE:GREGORIAN
METHOD:PUBLISH
BEGIN:VEVENT
UID:69eb9bb244318
DTSTAMP:20260424T163458Z
DTSTART:20260328T100000Z
DTEND:20260328T143000Z
LOCATION:
SUMMARY:Regiotraining Breedtesport - Stijl & Sparring - Regio Rood (Zuid-Holland)
DESCRIPTION:Training 3 van de 4 TBN Regiotrainingen Breedtesport Stijl &amp
 ; Sparring! Benieuwd in welke regio jouw club zit? Kijk hier. &nbsp; Voor w
 ie: Alle TBN-leden die willen werken aan hun Poomsae of Kyorugi vaardighed
 en o.l.v. een ervaren trainer! Planning: volgt &nbsp; Kosten: €10\, - pe
 r training Inschrijven via: Inschrijven Regio Rood (Zuid-Holland)\nhttps:/
 /www.taekwondobond.nl/events/regiotraining-breedtesport-stijl-sparring-regi
 o-rood-zuid-holland-2/
URL:https://www.taekwondobond.nl/events/regiotraining-breedtesport-stijl-sparring-regio-rood-zuid-holland-2/
END:VEVENT
END:VCALENDAR