BEGIN:VCALENDAR
VERSION:2.0
PRODID:-//eventon.com NONSGML v1.0//EN
CALSCALE:GREGORIAN
METHOD:PUBLISH
BEGIN:VEVENT
UID:69eb9befb6de5
DTSTAMP:20260424T163559Z
DTSTART:20251018
DTEND:20251019
LOCATION:
SUMMARY:Wedstrijdreglementencursus
DESCRIPTION:WRC oktober 2025\nhttps://www.taekwondobond.nl/events/wedstrijd
 reglementencursus-15/
URL:https://www.taekwondobond.nl/events/wedstrijdreglementencursus-15/
END:VEVENT
END:VCALENDAR