BEGIN:VCALENDAR
VERSION:2.0
PRODID:-//eventon.com NONSGML v1.0//EN
CALSCALE:GREGORIAN
METHOD:PUBLISH
BEGIN:VEVENT
UID:69eb9b990da4e
DTSTAMP:20260424T163433Z
DTSTART:20251217T193000Z
DTEND:20251217T223000Z
LOCATION:
SUMMARY:Najaarsvergadering
DESCRIPTION:0025_051 Oproep najaarsvergadering 2025 0025_054 Definitieve ag
 enda najaarsvergadering 2025\nhttps://www.taekwondobond.nl/events/najaarsve
 rgadering-10/
URL:https://www.taekwondobond.nl/events/najaarsvergadering-10/
END:VEVENT
END:VCALENDAR