BEGIN:VCALENDAR
VERSION:2.0
PRODID:-//eventon.com NONSGML v1.0//EN
CALSCALE:GREGORIAN
METHOD:PUBLISH
BEGIN:VEVENT
UID:69eb9b69bb010
DTSTAMP:20260424T163345Z
DTSTART:20251119T194500Z
DTEND:20251119T223000Z
LOCATION:
SUMMARY:Districtsvergadering District Zuid-Nederland
DESCRIPTION:Oproep districtsvergadering november 2025 Conceptnotulen distri
 ctsvergadering district Zuid 8-5-2025 (gepseudonimiseerd)\nhttps://www.taek
 wondobond.nl/events/districtsvergadering-district-zuid-nederland-2/
URL:https://www.taekwondobond.nl/events/districtsvergadering-district-zuid-nederland-2/
END:VEVENT
END:VCALENDAR