BEGIN:VCALENDAR
VERSION:2.0
PRODID:-//eventon.com NONSGML v1.0//EN
CALSCALE:GREGORIAN
METHOD:PUBLISH
BEGIN:VEVENT
UID:69eb9c41d488f
DTSTAMP:20260424T163721Z
DTSTART:20260228T090000Z
DTEND:20260228T120000Z
LOCATION:
SUMMARY:Introductiebijeenkomst Opleiding Taekwondotrainer-coach
DESCRIPTION:Aankondiging Opleiding Taekwondotrainer-coach 2026-2027 Aanmeld
 ingsformulier Opleiding Taekwondotrainer-coach 2026-2027\nhttps://www.taekw
 ondobond.nl/events/introductiebijeenkomst-opleiding-taekwondotrainer-coach/
URL:https://www.taekwondobond.nl/events/introductiebijeenkomst-opleiding-taekwondotrainer-coach/
END:VEVENT
END:VCALENDAR