BEGIN:VCALENDAR
VERSION:2.0
PRODID:-//eventon.com NONSGML v1.0//EN
CALSCALE:GREGORIAN
METHOD:PUBLISH
BEGIN:VEVENT
UID:69eb9c4c88e16
DTSTAMP:20260424T163732Z
DTSTART:20260321
DTEND:20260322
LOCATION:
SUMMARY:Lesdag 1 Opleiding Taekwondotrainer-coach niveau 2 & 3
DESCRIPTION:Lesdag 1 Opleiding Taekwondotrainer-coach niveau 2 & 3\nhttps:/
 /www.taekwondobond.nl/events/lesdag-1-opleiding-taekwondotrainer-coach/
URL:https://www.taekwondobond.nl/events/lesdag-1-opleiding-taekwondotrainer-coach/
END:VEVENT
END:VCALENDAR