BEGIN:VCALENDAR
VERSION:2.0
PRODID:-//eventon.com NONSGML v1.0//EN
CALSCALE:GREGORIAN
METHOD:PUBLISH
BEGIN:VEVENT
UID:69e5f8c9d592a
DTSTAMP:20260420T095833Z
DTSTART:20260404
DTEND:20260405
LOCATION:
SUMMARY:Lesdag 2 Opleiding Taekwondotrainer-coach niveau 2 & 3
DESCRIPTION:Lesdag 2 Opleiding Taekwondotrainer-coach niveau 2 & 3\nhttps:/
 /www.taekwondobond.nl/events/lesdag-2-opleiding-taekwondotrainer-coach/
URL:https://www.taekwondobond.nl/events/lesdag-2-opleiding-taekwondotrainer-coach/
END:VEVENT
END:VCALENDAR