BEGIN:VCALENDAR
VERSION:2.0
PRODID:-//eventon.com NONSGML v1.0//EN
CALSCALE:GREGORIAN
METHOD:PUBLISH
BEGIN:VEVENT
UID:69eb9bf56b523
DTSTAMP:20260424T163605Z
DTSTART:20260509
DTEND:20260510
LOCATION:
SUMMARY:Lesdag 3 Opleiding Taekwondotrainer-coach niveau 2 & 3
DESCRIPTION:Lesdag 3 Opleiding Taekwondotrainer-coach niveau 2 & 3\nhttps:/
 /www.taekwondobond.nl/events/lesdag-3-opleiding-taekwondotrainer-coach-nive
 au-2-3/
URL:https://www.taekwondobond.nl/events/lesdag-3-opleiding-taekwondotrainer-coach-niveau-2-3/
END:VEVENT
END:VCALENDAR